BEGIN:VCALENDAR
VERSION:2.0
PRODID:-//ChamberMaster//Event Calendar 2.0//EN
METHOD:PUBLISH
X-PUBLISHED-TTL:P3D
REFRESH-INTERVAL:P3D
CALSCALE:GREGORIAN
BEGIN:VEVENT
DTSTART:20250820T120000Z
DTEND:20250820T140000Z
X-MICROSOFT-CDO-ALLDAYEVENT:FALSE
SUMMARY:Breakfast Connections
DESCRIPTION:Breakfast Connections is open to all Chamber members and guests.  Members in attendance will be given the opportunity to give a 60 second commercial on the microphone. Guests will be allowed to give their name\, title and company name (no commercial time).\n\n\n\nMembers should plan to arrive early.  The event will start promptly at 7:01 a.m. For added publicity\, members are encouraged to bring a door prize.\n\n\n\nAdvanced online paid registration is required.  Reservations made after August 15\, 2025 will be $5 more.  Register today!\n\n\n\nMONTHLY THEME:  Its Back-to-School time! What education do you provide your customers? \n\n\n\nSPOTLIGHT SPONSOR:   SUNDALE SENIOR LIVING - THE WOODLANDS\n\n\n\nFor more information on how your company can be showcased as the monthly spotlight sponsor\, please contact Cyndi Alvarado - cyndi.alvarado@woodlandschamber.org.  Sponsorship is $350. \n\n\n\nNO REFUNDS FOR NO SHOWS OR CANCELATIONS AFTER 12PM  - FRIDAY\, AUGUST 15\, 2025.
X-ALT-DESC;FMTTYPE=text/html:<br />\n<br />\n<span style="font-size:14px\;"><span style="font-family:arial\;">Breakfast Connections&nbsp\;is open to all Chamber members and guests.&nbsp\; Members in attendance will be given the opportunity to give a 60 second commercial on the microphone.&nbsp\;Guests will be allowed to give their name\, title and company name (no commercial time).<br />\n<br />\nMembers should plan to arrive early.&nbsp\; The event will start promptly at 7:01 a.m. For added publicity\, members are encouraged to bring a door prize.</span></span><br />\n<br />\n<strong style="color: rgb(255\, 0\, 0)\; font-family: arial\; font-size: 14px\;">Advanced online paid registration is required.&nbsp\; Reservations made after August 15\, 2025 will be $5 more.&nbsp\; Register today!</strong><br />\n<br />\n<span style="font-size:14px\;"><span style="font-family:arial\;"><span style="font-size:18px\;"><em><strong>MONTHLY THEME:</strong>&nbsp\; Its Back-to-School time! What education do you provide your customers?&nbsp\;</em><br />\n<br />\n<strong>SPOTLIGHT SPONSOR:&nbsp\; &nbsp\;<a href="https://business.woodlandschamber.org/list/member/sundale-senior-living-the-woodlands-30246">SUNDALE SENIOR LIVING - THE WOODLANDS</a></strong></span><br />\n<br />\nFor more information on how your company can be showcased as the monthly spotlight sponsor\, please contact Cyndi Alvarado - cyndi.alvarado@woodlandschamber.org.&nbsp\; Sponsorship is $350.&nbsp\;</span></span><br />\n<br />\n<strong><span style="color:#FF0000\;">NO REFUNDS FOR NO SHOWS OR CANCELATIONS AFTER 12PM&nbsp\; - FRIDAY\, AUGUST 15\, 2025.</span></strong>
LOCATION:Dave & Buster's 8915 Metropark Dr. Shenandoah\, TX 77385
UID:e.2574.16234
SEQUENCE:3
DTSTAMP:20260420T054622Z
URL:https://business.woodlandschamber.org/events/details/breakfast-connections-08-20-2025-16234
END:VEVENT

END:VCALENDAR
