BEGIN:VCALENDAR
VERSION:2.0
PRODID:-//ChamberMaster//Event Calendar 2.0//EN
METHOD:PUBLISH
X-PUBLISHED-TTL:P3D
REFRESH-INTERVAL:P3D
CALSCALE:GREGORIAN
BEGIN:VEVENT
DTSTART:20250416T120000Z
DTEND:20250416T140000Z
X-MICROSOFT-CDO-ALLDAYEVENT:FALSE
SUMMARY:Breakfast Connections
DESCRIPTION:Breakfast Connections is open to all Chamber members and guests.  Members in attendance will be given the opportunity to give a 60 second commercial on the microphone. Guests will be allowed to give their name\, title and company name (no commercial time).\n\n\n\nMembers should plan to arrive early.  The event will start promptly at 7:01 a.m. For added publicity\, members are encouraged to bring a door prize.\nADVANCED ONLINE PAID REGISTRATION IS REQUIRED by APRIL11th\n\nRegister today!\n\n\nMONTHLY THEME:  In observance of Volunteer Appreciation Month\, what is your favorite volunteer opportunity? \n\n\n\nSPOTLIGHT SPONSOR:   ADVANCIAL FEDERAL CREDIT UNION\n\n\n\nFor more information on how your company can be showcased as the monthly spotlight sponsor\, please contact Cyndi Alvarado - cyndi.alvarado@woodlandschamber.org.  Sponsorship is $350. \n\n\n\nNO REFUNDS FOR NO SHOWS OR CANCELATIONS AFTER 12PM  - FRIDAY\, APRIL 11\, 2025.
X-ALT-DESC;FMTTYPE=text/html:<br />\n<br />\n<span style="font-size:16px\;"><span style="font-family:arial\;">Breakfast Connections&nbsp\;is open to all Chamber members and guests.&nbsp\; Members in attendance will be given the opportunity to give a 60 second commercial on the microphone.&nbsp\;Guests will be allowed to give their name\, title and company name (no commercial time).<br />\n<br />\nMembers should plan to arrive early.&nbsp\; The event will start promptly at 7:01 a.m. For added publicity\, members are encouraged to bring a door prize.</span></span>\n<div style="text-align: center\;"><span style="font-size:16px\;"><span style="font-family:arial\;"><span style="color: rgb(255\, 0\, 0)\;"><strong><u>ADVANCED ONLINE PAID REGISTRATION IS REQUIRED by APRIL11th</u><br />\nRegister today!</strong></span></span></span></div>\n<br />\n<span style="font-size:16px\;"><span style="font-family:arial\;"><em><strong>MONTHLY THEME:</strong>&nbsp\; In observance of Volunteer Appreciation Month\, what is your favorite volunteer opportunity?&nbsp\;</em><br />\n<br />\n<strong>SPOTLIGHT SPONSOR:&nbsp\; &nbsp\;<a href="https://www.advancial.org/">ADVANCIAL FEDERAL CREDIT UNION</a></strong><br />\n<br />\nFor more information on how your company can be showcased as the monthly spotlight sponsor\, please contact Cyndi Alvarado - cyndi.alvarado@woodlandschamber.org.&nbsp\; Sponsorship is $350.&nbsp\;</span><br />\n<br />\n<strong><span style="color:#FF0000\;">NO REFUNDS FOR NO SHOWS OR CANCELATIONS AFTER 12PM&nbsp\; - FRIDAY\, APRIL 11\, 2025.</span></strong></span>
LOCATION:Dave & Buster's 8915 Metropark Dr. Shenandoah\, TX 77385
UID:e.2574.16230
SEQUENCE:3
DTSTAMP:20260420T102440Z
URL:https://business.woodlandschamber.org/events/details/breakfast-connections-04-16-2025-16230
END:VEVENT

END:VCALENDAR
