BEGIN:VCALENDAR
VERSION:2.0
PRODID:-//ChamberMaster//Event Calendar 2.0//EN
METHOD:PUBLISH
X-PUBLISHED-TTL:P3D
REFRESH-INTERVAL:P3D
CALSCALE:GREGORIAN
BEGIN:VEVENT
DTSTART:20250207T150000Z
DTEND:20250207T160000Z
X-MICROSOFT-CDO-ALLDAYEVENT:FALSE
SUMMARY:2025 EOC Committee Meeting
DESCRIPTION:The Economic Outlook Conference Team\n\nThis special events team produces the annual Economic Outlook Conference by recruiting sponsors\, speakers and setting the agenda. The conference is the business and economic forecasting event of the year providing an economic analysis and prediction for the coming year with guest speakers\, panel discussions and presentations about industries that are driving our regional economy.\n\nMeeting Frequency: Team meets every first Friday\, August - February. \n\nWho Can Serve: General membership
X-ALT-DESC;FMTTYPE=text/html:<h3 -webkit-text-stroke-width:="" font-size:="" font-style:="" font-variant:="" font-weight:="" helvetica="" letter-spacing:="" line-height:="" margin-bottom:="" margin-top:="" orphans:="" style="background-color: transparent\; box-sizing: border-box\; color: rgb(51\, 51\, 51)\; font-family: Arial\," text-align:="" text-decoration:="" text-indent:="" text-transform:="" white-space:="" word-spacing:="">&nbsp\;</h3>\n\n<p -webkit-text-stroke-width:="" 0px="" font-size:="" font-style:="" font-variant:="" font-weight:="" helvetica="" letter-spacing:="" margin:="" orphans:="" style="background-color: transparent\; box-sizing: border-box\; color: rgb(51\, 51\, 51)\; font-family: Arial\, " text-align:="" text-decoration:="" text-indent:="" text-transform:="" white-space:="" word-spacing:=""><strong style="box-sizing: border-box\; font-weight: 700\;">The Economic Outlook Conference Team</strong></p>\n\n<p -webkit-text-stroke-width:="" font-size:="" font-style:="" font-variant:="" font-weight:="" helvetica="" letter-spacing:="" margin-bottom:="" margin-left:="" margin-right:="" margin-top:="" orphans:="" style="background-color: transparent\; box-sizing: border-box\; color: rgb(51\, 51\, 51)\; font-family: Arial\," text-align:="" text-decoration:="" text-indent:="" text-transform:="" white-space:="" word-spacing:="">This special events team produces the annual Economic Outlook Conference by&nbsp\;recruiting sponsors\, speakers and setting the agenda. The&nbsp\;conference is the business and economic forecasting event of the year&nbsp\;providing an economic analysis and prediction&nbsp\;for the coming year with guest speakers\, panel discussions and presentations about industries that are driving our regional economy.</p>\n\n<p -webkit-text-stroke-width:="" font-size:="" font-style:="" font-variant:="" font-weight:="" helvetica="" letter-spacing:="" margin-bottom:="" margin-left:="" margin-right:="" margin-top:="" orphans:="" style="background-color: transparent\; box-sizing: border-box\; color: rgb(51\, 51\, 51)\; font-family: Arial\," text-align:="" text-decoration:="" text-indent:="" text-transform:="" white-space:="" word-spacing:=""><strong style="box-sizing: border-box\; font-weight: 700\;">Meeting Frequency: </strong>Team meets every&nbsp\;first Friday\,&nbsp\;August - February.&nbsp\;</p>\n\n<p -webkit-text-stroke-width:="" font-size:="" font-style:="" font-variant:="" font-weight:="" helvetica="" letter-spacing:="" margin-bottom:="" margin-left:="" margin-right:="" margin-top:="" orphans:="" style="background-color: transparent\; box-sizing: border-box\; color: rgb(51\, 51\, 51)\; font-family: Arial\," text-align:="" text-decoration:="" text-indent:="" text-transform:="" white-space:="" word-spacing:=""><strong style="box-sizing: border-box\; font-weight: 700\;">Who Can Serve: </strong>General membership</p>\n
LOCATION:The Chamber - Lakeshore Board Room 9320 Lakeside Blvd.\, Suite 200 The Woodlands\, TX 77381
UID:e.2574.17715
SEQUENCE:3
DTSTAMP:20260420T114842Z
URL:https://business.woodlandschamber.org/events/details/2025-eoc-committee-meeting-02-07-2025-17715
END:VEVENT

END:VCALENDAR
