BEGIN:VCALENDAR
VERSION:2.0
PRODID:-//ChamberMaster//Event Calendar 2.0//EN
METHOD:PUBLISH
X-PUBLISHED-TTL:P3D
REFRESH-INTERVAL:P3D
CALSCALE:GREGORIAN
BEGIN:VEVENT
DTSTART:20250816T230000Z
DTEND:20250817T040000Z
X-MICROSOFT-CDO-ALLDAYEVENT:FALSE
SUMMARY:2025 Chairman's Ball
DESCRIPTION:Join us for the 2025 Chairman's Ball in honor of our 2024-2025 Chairman\, Ann Wolford of The Wolford Group\nSPONSOR FORM\n\n\n\nFor additional event information and sponsorship details\, contact the Chamber office at 281.367.5777.\n\n\n\nDress Code: Black Tie Optional with A French Quarter Flair
X-ALT-DESC;FMTTYPE=text/html:<p><strong style="font-size: 24px\;">Join us for the 2025&nbsp\;Chairman&#39\;s Ball in honor of our 2024-2025&nbsp\;Chairman\, Ann Wolford of The Wolford Group</strong></p>\n<a href="https://chambermaster.blob.core.windows.net/userfiles/UserFiles/chambers/2574/File/2025/2025ChairmansBallSponsorForm.pdf"><em><strong><span style="font-size:28px\;">SPONSOR FORM</span></strong></em></a><br />\n<br />\n<font face="arial\, sans-serif"><font size="2">For additional event information and sponsorship details\, contact the Chamber office at 281.367.5777.<br />\n<br />\nDress Code: Black Tie Optional with A French Quarter Flair</font></font>
LOCATION:The Woodlands Waterway Marriott Hotel & Convention Center 1601 Lake Robbins Dr\, The Woodlands\, TX 77380
UID:e.2574.18753
SEQUENCE:3
DTSTAMP:20260420T065641Z
URL:https://business.woodlandschamber.org/events/details/2025-chairman-s-ball-18753
END:VEVENT

END:VCALENDAR
