BEGIN:VCALENDAR
VERSION:2.0
PRODID:-//ChamberMaster//Event Calendar 2.0//EN
METHOD:PUBLISH
X-PUBLISHED-TTL:P3D
REFRESH-INTERVAL:P3D
CALSCALE:GREGORIAN
BEGIN:VEVENT
DTSTART:20230919T143000Z
DTEND:20230919T153000Z
X-MICROSOFT-CDO-ALLDAYEVENT:FALSE
SUMMARY:2024 EOC Committee Meeting
DESCRIPTION:The Economic Outlook Conference Team\n\n    This special events team produces the annual Economic Outlook Conference by recruiting sponsors\, speakers and setting the agenda. The conference is the business and economic forecasting event of the year providing an economic analysis and prediction for the coming year with guest speakers\, panel discussions and presentations about industries that are driving our regional economy. \n\nWho Can Serve: General membership
X-ALT-DESC;FMTTYPE=text/html:<h3 style="background-color: transparent\; box-sizing: border-box\; color: rgb(51\, 51\, 51)\; font-family: Arial\,&quot\;Helvetica Neue&quot\;\,Helvetica\,sans-serif\; font-size: 24px\; font-style: normal\; font-variant: normal\; font-weight: 700\; letter-spacing: normal\; line-height: 26.4px\; margin-bottom: 10px\; margin-top: 20px\; orphans: 2\; text-align: left\; text-decoration: none\; text-indent: 0px\; text-transform: none\; -webkit-text-stroke-width: 0px\; white-space: normal\; word-spacing: 0px\;">&nbsp\;</h3>\n\n<p style="background-color: transparent\; box-sizing: border-box\; color: rgb(51\, 51\, 51)\; font-family: Arial\, &quot\;Helvetica Neue&quot\;\, Helvetica\, sans-serif\; font-size: 16px\; font-style: normal\; font-variant: normal\; font-weight: 400\; letter-spacing: normal\; margin: 0px 0px 10px\; orphans: 2\; text-decoration: none\; text-indent: 0px\; text-transform: none\; -webkit-text-stroke-width: 0px\; white-space: normal\; word-spacing: 0px\; text-align: center\;"><strong style="box-sizing: border-box\; font-weight: 700\;">The Economic Outlook Conference Team</strong></p>\n\n<p style="background-color: transparent\; box-sizing: border-box\; color: rgb(51\, 51\, 51)\; font-family: Arial\,&quot\;Helvetica Neue&quot\;\,Helvetica\,sans-serif\; font-size: 16px\; font-style: normal\; font-variant: normal\; font-weight: 400\; letter-spacing: normal\; margin-bottom: 10px\; margin-left: 0px\; margin-right: 0px\; margin-top: 0px\; orphans: 2\; text-align: left\; text-decoration: none\; text-indent: 0px\; text-transform: none\; -webkit-text-stroke-width: 0px\; white-space: normal\; word-spacing: 0px\;">&nbsp\;&nbsp\;&nbsp\;&nbsp\;This special events team produces the annual Economic Outlook Conference by&nbsp\;recruiting sponsors\, speakers and setting the agenda. The&nbsp\;conference is the business and economic forecasting event of the year&nbsp\;providing an economic analysis and prediction&nbsp\;for the coming year with guest speakers\, panel discussions and presentations about industries that are driving our regional economy.&nbsp\;</p>\n\n<p style="background-color: transparent\; box-sizing: border-box\; color: rgb(51\, 51\, 51)\; font-family: Arial\,&quot\;Helvetica Neue&quot\;\,Helvetica\,sans-serif\; font-size: 16px\; font-style: normal\; font-variant: normal\; font-weight: 400\; letter-spacing: normal\; margin-bottom: 10px\; margin-left: 0px\; margin-right: 0px\; margin-top: 0px\; orphans: 2\; text-align: left\; text-decoration: none\; text-indent: 0px\; text-transform: none\; -webkit-text-stroke-width: 0px\; white-space: normal\; word-spacing: 0px\;"><strong style="box-sizing: border-box\; font-weight: 700\;">Who Can Serve: </strong>General membership</p>\n
LOCATION:The Chamber - Lakeshore Board Room 9320 Lakeside Blvd.\, Suite 200 The Woodlands\, TX 77381
UID:e.2574.16357
SEQUENCE:3
DTSTAMP:20260420T183428Z
URL:https://business.woodlandschamber.org/events/details/2024-eoc-committee-meeting-16357
END:VEVENT

END:VCALENDAR
