BEGIN:VCALENDAR
VERSION:2.0
PRODID:-//ChamberMaster//Event Calendar 2.0//EN
METHOD:PUBLISH
X-PUBLISHED-TTL:P3D
REFRESH-INTERVAL:P3D
CALSCALE:GREGORIAN
BEGIN:VEVENT
DTSTART:20240817T233000Z
DTEND:20240818T040000Z
X-MICROSOFT-CDO-ALLDAYEVENT:FALSE
SUMMARY:2024 Chairman's Ball
DESCRIPTION:Join us for the 2024 Chairman's Ball in honor of our 2023-2024 Chairman\, Brian Albert of Kean Miller\nSPONSORSHIP FORM\n\n\n\nFor additional event information and sponsorship details\, contact the Chamber office at 281.367.5777.
X-ALT-DESC;FMTTYPE=text/html:<p><strong style="font-size: 24px\;">Join us for the 2024 Chairman&#39\;s Ball in honor of our 2023-2024 Chairman\, Brian Albert of Kean Miller</strong></p>\n<a href="https://chambermaster.blob.core.windows.net/userfiles/UserFiles/chambers/2574/File/2024/2024ChairmansBallSponsorForm.pdf"><span style="font-size:26px\;"><u><em><strong>SPONSORSHIP FORM</strong></em></u></span></a><br />\n<br />\n<font face="arial\, sans-serif"><font size="2">For additional event information and sponsorship details\, contact the Chamber office at 281.367.5777.</font></font>
LOCATION:The Woodlands Waterway Marriott Hotel & Convention Center 1601 Lake Robbins Dr\, The Woodlands\, TX 77380
UID:e.2574.17199
SEQUENCE:3
DTSTAMP:20260424T210838Z
URL:https://business.woodlandschamber.org/events/details/2024-chairman-s-ball-17199
END:VEVENT

END:VCALENDAR
